BEGIN:VCALENDAR
VERSION:2.0
PRODID:icalendar-ruby
CALSCALE:GREGORIAN
METHOD:PUBLISH
BEGIN:VEVENT
DTSTAMP:20260421T051518Z
UID:10-533320@pinehall.net
DTSTART:20260805T020000Z
DTEND:20260805T040000Z
CLASS:PUBLIC
CREATED:20260420T172750
DESCRIPTION:Every Tuesday from 7-9 PM\, Pine Hall hosts the Tuesday Night B
 luegrass Jam.   Open to all levels of musicians\, the jam is a collection
  of acoustic players...guitars\, mandolins\, banjos and fiddlers...who tak
 e turns playing and singing their favorites from traditional Bluegrass\, c
 lassic country and gospel.  \nNo advanced sign-up is necessary\, but potl
 uck goodies are always welcome for the evening's social-refreshment break.
   Listeners are welcome\, but don't be surprised if you get invited into 
 the song circle to have a go at a song or two of your own.  Dust off your
  guitar...come and have some fun.
LAST-MODIFIED:20260420T172750
LOCATION:Pine Hall Lutheran Church - Downstairs (enter at back of church)
SUMMARY:Tuesday Night Bluegrass Jam
URL;VALUE=URI:https://www.pinehall.net/events/tuesday-night-bluegrass-jam--
 10/2026-08-04
ATTACH;FILENAME=BG-Jam.jpg;FMTTYPE=image/jpeg:https://dq5pwpg1q8ru0.cloudfr
 ont.net/2023/02/21/08/04/42/20a8a85a-beee-4341-ae23-9be5ceadc4fd/BG-Jam.jp
 g
ATTACH;FILENAME=TNBJ-2-2023.jpg;FMTTYPE=image/jpeg:https://dq5pwpg1q8ru0.cl
 oudfront.net/2023/02/21/08/06/58/6a003d6c-a7d9-4f5a-a1a3-2bc32401c42b/TNBJ
 -2-2023.jpg
END:VEVENT
END:VCALENDAR
